BEGIN:VCALENDAR
VERSION:2.0
PRODID:-//ChamberMaster//Event Calendar 2.0//EN
METHOD:PUBLISH
X-PUBLISHED-TTL:P3D
REFRESH-INTERVAL:P3D
CALSCALE:GREGORIAN
BEGIN:VEVENT
DTSTART;VALUE=DATE:20251025
DTEND;VALUE=DATE:20251026
TRANSP:TRANSPARENT
X-MICROSOFT-CDO-ALLDAYEVENT:TRUE
SUMMARY:Top Cuts Salon Cut-A-Thon
DESCRIPTION:Cut-A-Thon\n\nTop Cuts Salon
X-ALT-DESC;FMTTYPE=text/html:Cut-A-Thon<br />\nTop Cuts Salon
LOCATION:3956 Hempstead Tpke Bethpage NY 11714
UID:e.3565.1289
SEQUENCE:3
DTSTAMP:20260422T020846Z
URL:https://business.bethpagechamberofcommerce.com/events/details/top-cuts-salon-cut-a-thon-1289
END:VEVENT

END:VCALENDAR
