BEGIN:VCALENDAR
VERSION:2.0
PRODID:-//ChamberMaster//Event Calendar 2.0//EN
METHOD:PUBLISH
X-PUBLISHED-TTL:P3D
REFRESH-INTERVAL:P3D
CALSCALE:GREGORIAN
BEGIN:VEVENT
DTSTART:20251126T230000Z
DTEND:20251127T040000Z
X-MICROSOFT-CDO-ALLDAYEVENT:FALSE
SUMMARY:Thanksgiving Eve Party & Chamber Happy Hour 11/26/2025
DESCRIPTION:Thanksgiving Eve Party Wednesday November 26th. Come for Dinner. Stay for Dancing. Featuring DJ Koz of Metro Sounds Entertainment. We will have a Happy Hour gathering at 6pm!
X-ALT-DESC;FMTTYPE=text/html:Thanksgiving Eve Party Wednesday November 26th. Come for Dinner. Stay for Dancing. Featuring DJ Koz of Metro Sounds Entertainment. We will have a Happy Hour gathering at 6pm!
LOCATION:Campagne House 339 Broadway Bethpage NY 11714
UID:e.3565.1298
SEQUENCE:3
DTSTAMP:20260421T195533Z
URL:https://business.bethpagechamberofcommerce.com/events/details/thanksgiving-eve-party-chamber-happy-hour-11-26-2025-1298
END:VEVENT

END:VCALENDAR
