BEGIN:VCALENDAR
VERSION:2.0
PRODID:-//ChamberMaster//Event Calendar 2.0//EN
METHOD:PUBLISH
X-PUBLISHED-TTL:P3D
REFRESH-INTERVAL:P3D
CALSCALE:GREGORIAN
BEGIN:VEVENT
DTSTART:20260108T190000Z
DTEND:20260124T030000Z
X-MICROSOFT-CDO-ALLDAYEVENT:FALSE
SUMMARY:Susan's Pub January 2026 Events
DESCRIPTION:Susan's Pub\n\nJanuary 2026 Events
X-ALT-DESC;FMTTYPE=text/html:Susan&#39\;s Pub<br />\nJanuary 2026 Events
LOCATION:8 Railroad Ave Bethpage NY 11714
UID:e.3565.1310
SEQUENCE:3
DTSTAMP:20260421T155657Z
URL:https://business.bethpagechamberofcommerce.com/events/details/susan-s-pub-january-2026-events-1310
END:VEVENT

END:VCALENDAR
