BEGIN:VCALENDAR
VERSION:2.0
PRODID:-//ChamberMaster//Event Calendar 2.0//EN
METHOD:PUBLISH
X-PUBLISHED-TTL:P3D
REFRESH-INTERVAL:P3D
CALSCALE:GREGORIAN
BEGIN:VEVENT
DTSTART:20250427T160000Z
DTEND:20250428T000000Z
X-MICROSOFT-CDO-ALLDAYEVENT:FALSE
SUMMARY:Susan's Pub 30th Anniversary Celebration
DESCRIPTION:Susan's Pub 30th Anniversary Celebration\n\n.75 Beers Are Back!
X-ALT-DESC;FMTTYPE=text/html:Susan&#39\;s Pub 30th Anniversary Celebration<br />\n.75 Beers Are Back!
LOCATION:8 Railroad Avenue Bethpage NY 11714
UID:e.3565.1037
SEQUENCE:3
DTSTAMP:20260423T053416Z
URL:https://business.bethpagechamberofcommerce.com/events/details/susan-s-pub-30th-anniversary-celebration-1037
END:VEVENT

END:VCALENDAR
