BEGIN:VCALENDAR
VERSION:2.0
PRODID:-//ChamberMaster//Event Calendar 2.0//EN
METHOD:PUBLISH
X-PUBLISHED-TTL:P3D
REFRESH-INTERVAL:P3D
CALSCALE:GREGORIAN
BEGIN:VEVENT
DTSTART;VALUE=DATE:20251129
DTEND;VALUE=DATE:20251130
TRANSP:TRANSPARENT
X-MICROSOFT-CDO-ALLDAYEVENT:TRUE
SUMMARY:Small Business Saturday 2025
DESCRIPTION:Small Business Saturday\n\nShop Local Bethpage
X-ALT-DESC;FMTTYPE=text/html:Small Business Saturday<br />\nShop Local Bethpage
LOCATION:Support Local Merchants All Over Bethpage & Plainedge 11714
UID:e.3565.1277
SEQUENCE:3
DTSTAMP:20260421T195129Z
URL:https://business.bethpagechamberofcommerce.com/events/details/small-business-saturday-2025-1277
END:VEVENT

END:VCALENDAR
