BEGIN:VCALENDAR
VERSION:2.0
PRODID:-//ChamberMaster//Event Calendar 2.0//EN
METHOD:PUBLISH
X-PUBLISHED-TTL:P3D
REFRESH-INTERVAL:P3D
CALSCALE:GREGORIAN
BEGIN:VEVENT
DTSTART:20250428T223000Z
DTEND:20250429T003000Z
X-MICROSOFT-CDO-ALLDAYEVENT:FALSE
SUMMARY:Sip N Paint at Campagne House
DESCRIPTION:Paint & Sip with Jessica\n\nBethpage's Bar & Brushes Series
X-ALT-DESC;FMTTYPE=text/html:Paint &amp\; Sip with Jessica<br />\nBethpage&#39\;s Bar &amp\; Brushes Series
LOCATION:Campagne House 339 Broadway Bethpage NY 11714
UID:e.3565.1036
SEQUENCE:3
DTSTAMP:20260423T021451Z
URL:https://business.bethpagechamberofcommerce.com/events/details/sip-n-paint-at-campagne-house-1036
END:VEVENT

END:VCALENDAR
