BEGIN:VCALENDAR
VERSION:2.0
PRODID:-//ChamberMaster//Event Calendar 2.0//EN
METHOD:PUBLISH
X-PUBLISHED-TTL:P3D
REFRESH-INTERVAL:P3D
CALSCALE:GREGORIAN
BEGIN:VEVENT
DTSTART:20250924T230000Z
DTEND:20250925T010000Z
X-MICROSOFT-CDO-ALLDAYEVENT:FALSE
SUMMARY:September General Members Meeting 9/24/25
DESCRIPTION:September General Members Meeting\n\nChamber Members Only
X-ALT-DESC;FMTTYPE=text/html:September General Members Meeting<br />\nChamber Members Only
LOCATION:To Be Announced
UID:e.3565.1288
SEQUENCE:3
DTSTAMP:20260422T021953Z
URL:https://business.bethpagechamberofcommerce.com/events/details/september-general-members-meeting-9-24-25-1288
END:VEVENT

END:VCALENDAR
