BEGIN:VCALENDAR
VERSION:2.0
PRODID:-//ChamberMaster//Event Calendar 2.0//EN
METHOD:PUBLISH
X-PUBLISHED-TTL:P3D
REFRESH-INTERVAL:P3D
CALSCALE:GREGORIAN
BEGIN:VEVENT
DTSTART:20250927T170000Z
DTEND:20250928T020000Z
X-MICROSOFT-CDO-ALLDAYEVENT:FALSE
SUMMARY:Ryder Cup & Michelob Ultra Golf Bag Raffle at Chippopalooza 9/27/2025
DESCRIPTION:Chippopalooza \n\nMichelob Ultra \n\nGolf Bag Raffle\n\n& Ryder Cup \n\nSignature Drinks
X-ALT-DESC;FMTTYPE=text/html:Chippopalooza&nbsp\;<br />\nMichelob Ultra&nbsp\;<br />\nGolf Bag Raffle<br />\n&amp\; Ryder Cup&nbsp\;<br />\nSignature Drinks
LOCATION:Campagne House 339 Broadway Bethpage NY 11714
UID:e.3565.1286
SEQUENCE:3
DTSTAMP:20260422T022505Z
URL:https://business.bethpagechamberofcommerce.com/events/details/ryder-cup-michelob-ultra-golf-bag-raffle-at-chippopalooza-9-27-2025-1286
END:VEVENT

END:VCALENDAR
