BEGIN:VCALENDAR
VERSION:2.0
PRODID:-//ChamberMaster//Event Calendar 2.0//EN
METHOD:PUBLISH
X-PUBLISHED-TTL:P3D
REFRESH-INTERVAL:P3D
CALSCALE:GREGORIAN
BEGIN:VEVENT
DTSTART:20250411T220000Z
DTEND:20250412T170000Z
X-MICROSOFT-CDO-ALLDAYEVENT:FALSE
SUMMARY:Reiki Level 1 Certification (2-Day Certification)
DESCRIPTION:Have you felt the call to learn holistic energy healing for yourself and others? Do you desire to increase your own unique healing capabilities coming from your hands?\n\nWould you enjoy deepening your own self-connection\, spiritual journey\, and learn an ancient technique that gives you lasting healing?\n\nJoin Annie Gee\, a Reiki Master Teacher and Integrated Energy Therapy  Advanced Practitioner trained by Siuyin Castro in Colorado\, for her in-person Reiki Level 1 Training at Twin Flame in April.\n\nReiki Level 1 with Annie will be taught in two-parts and days: Friday April 11th from 6:00-9:00pm & Saturday April 12th from 9:30am-1:00pm.\n\nReiki\, which means "universal life force" energy\, is a natural form of healing that originated in Japan. The Reiki system\, a gentle "laying-on" of hands technique\, helps restore balance in our hearts and mind\, promotes mental and spiritual well-being and supports the body's natural ability to heal itself.\n\nReiki Level 1 Training Includes:\n\n  The history\, purpose and effects of Reiki\n\n  Energy & Healing\n\n  How to sense energy with your hands\n\n  Five Reiki Ideals\n\n  The Chakra system\n\n  The Clairs\n\n  Attunements and 21-day Cleansing Period\n\n  How to perform Self-Reiki\n\n  How to perform Chair Reiki\n\n  Complete instructions for full body treatment to another\n\n  Exchanging a full Reiki treatment (table session) with another student\n\n  Reiki Level 1 completion Certificate\n\n  Comprehensive student Manual\n\nNo Prerequisite\n\nReiki Level 1 cost is $333.\n\nSpaces are limited so reserve yours now!\n\n \n\nPlease bring your own notebook\, pen and water for the training. \n\nReach out if the above dates don't work or if you'd prefer a private training.
X-ALT-DESC;FMTTYPE=text/html:<p>Have you felt the call to learn holistic energy healing for yourself and others? Do you desire to increase your own unique healing capabilities coming from your hands?</p>\n\n<p>Would you enjoy deepening your own self-connection\, spiritual journey\, and learn an ancient technique that gives you lasting healing?</p>\n\n<p>Join Annie Gee\, a Reiki Master Teacher and Integrated Energy Therapy&reg\; Advanced Practitioner trained by Siuyin Castro in Colorado\, for her in-person Reiki Level 1 Training at Twin Flame in April.</p>\n\n<p>Reiki Level 1 with Annie will be taught in two-parts and days: <strong>Friday April 11th from 6:00-9:00pm &amp\; Saturday April 12th from 9:30am-1:00pm.</strong></p>\n\n<p>Reiki\, which means &ldquo\;universal life force&rdquo\; energy\, is a natural form of healing that originated in Japan. The Reiki system\, a gentle &ldquo\;laying-on&rdquo\; of hands technique\, helps restore balance in our hearts and mind\, promotes mental and spiritual well-being and supports the body&rsquo\;s natural ability to heal itself.</p>\n\n<p><strong>Reiki Level 1 Training Includes:</strong></p>\n\n<p>&bull\; The history\, purpose and effects of Reiki</p>\n\n<p>&bull\; Energy &amp\; Healing</p>\n\n<p>&bull\; How to sense energy with your hands</p>\n\n<p>&bull\; Five Reiki Ideals</p>\n\n<p>&bull\; The Chakra system</p>\n\n<p>&bull\; The Clairs</p>\n\n<p>&bull\; Attunements and 21-day Cleansing Period</p>\n\n<p>&bull\; How to perform Self-Reiki</p>\n\n<p>&bull\; How to perform Chair Reiki</p>\n\n<p>&bull\; Complete instructions for full body treatment to another</p>\n\n<p>&bull\; Exchanging a full Reiki treatment (table session) with another student</p>\n\n<p>&bull\; Reiki Level 1 completion Certificate</p>\n\n<p>&bull\; Comprehensive student Manual</p>\n\n<p><strong>No Prerequisite</strong></p>\n\n<p><strong>Reiki Level 1 cost is $333.</strong></p>\n\n<p><strong>Spaces are limited so reserve yours now!</strong></p>\n\n<p>&nbsp\;</p>\n\n<p>Please bring your own notebook\, pen and water for the training.&nbsp\;</p>\n\n<p>Reach out if the above dates don&rsquo\;t work or if you&rsquo\;d prefer a private training.</p>\n
LOCATION:329-1 Broadway Bethpage Twin Flame Crystal Boutique
UID:e.3565.1024
SEQUENCE:3
DTSTAMP:20260423T052731Z
URL:https://business.bethpagechamberofcommerce.com/events/details/reiki-level-1-certification-2-day-certification-1024
END:VEVENT

END:VCALENDAR
