BEGIN:VCALENDAR
VERSION:2.0
PRODID:-//ChamberMaster//Event Calendar 2.0//EN
METHOD:PUBLISH
X-PUBLISHED-TTL:P3D
REFRESH-INTERVAL:P3D
CALSCALE:GREGORIAN
BEGIN:VEVENT
DTSTART:20241109T010000Z
DTEND:20241109T180000Z
X-MICROSOFT-CDO-ALLDAYEVENT:FALSE
SUMMARY:Phil Firetog Trio & Co. "What You're Good For" Single Release Show
DESCRIPTION:Join Phil Firetog Trio & Co. for the official release of their new single\, "What You're Good For\," a cinematic folk rock anthem that explores the emotional chaos of toxic love. Blending alternative indie vibes with folk storytelling\, this track dives deep into the emotional games and manipulation that often define modern relationships. The night will feature live performances by Phil Firetog Trio & Co.\, alongside special performances by Good Vibes\, Anything Ever\, and Don Moon. Expect an evening filled with dynamic music and a wide range of sounds from these talented acts. About the Single: "What You're Good For" captures the intoxicating yet unhealthy cycles of toxic love\, with lyrics like "You want your song   but you're not good for me\," asking whether desire is worth sacrificing self-worth. Music Video Premiere: Be sure to check out the live acoustic music video for "What You're Good For\," premiering on November 15th. This raw\, intimate performance will showcase the trio with guest musicians\, offering fans a new way to experience the song. Come celebrate the release and enjoy the music of Phil Firetog Trio & Co.\, along with performances from Good Vibes\, Anything Ever\, and Don Moon. It's a night of unforgettable music with something for everyone. Follow Us for Updates: Instagram: @philfiretogtrio Facebook: facebook.com/philfiretogtrio YouTube: youtube.com/c/philfiretogtrio Website: www.philfiretogtrio.com
X-ALT-DESC;FMTTYPE=text/html:Join Phil Firetog Trio &amp\; Co. for the official release of their new single\, &quot\;What You&rsquo\;re Good For\,&quot\; a cinematic folk rock anthem that explores the emotional chaos of toxic love. Blending alternative indie vibes with folk storytelling\, this track dives deep into the emotional games and manipulation that often define modern relationships. The night will feature live performances by Phil Firetog Trio &amp\; Co.\, alongside special performances by Good Vibes\, Anything Ever\, and Don Moon. Expect an evening filled with dynamic music and a wide range of sounds from these talented acts. About the Single: &quot\;What You&rsquo\;re Good For&quot\; captures the intoxicating yet unhealthy cycles of toxic love\, with lyrics like &quot\;You want your song &ndash\; but you&rsquo\;re not good for me\,&quot\; asking whether desire is worth sacrificing self-worth. Music Video Premiere: Be sure to check out the live acoustic music video for &quot\;What You&rsquo\;re Good For\,&quot\; premiering on November 15th. This raw\, intimate performance will showcase the trio with guest musicians\, offering fans a new way to experience the song. Come celebrate the release and enjoy the music of Phil Firetog Trio &amp\; Co.\, along with performances from Good Vibes\, Anything Ever\, and Don Moon. It&#39\;s a night of unforgettable music with something for everyone. Follow Us for Updates: Instagram: @philfiretogtrio Facebook: facebook.com/philfiretogtrio YouTube: youtube.com/c/philfiretogtrio Website: www.philfiretogtrio.com
LOCATION:Mr. Beerys 4019 Hempstead Tpke\, Bethpage\, NY 11714
UID:e.3565.1001
SEQUENCE:3
DTSTAMP:20260422T225334Z
URL:https://business.bethpagechamberofcommerce.com/events/details/phil-firetog-trio-co-what-you-re-good-for-single-release-show-1001
END:VEVENT

END:VCALENDAR
