BEGIN:VCALENDAR
VERSION:2.0
PRODID:-//ChamberMaster//Event Calendar 2.0//EN
METHOD:PUBLISH
X-PUBLISHED-TTL:P3D
REFRESH-INTERVAL:P3D
CALSCALE:GREGORIAN
BEGIN:VEVENT
DTSTART:20250924T220000Z
DTEND:20250925T010000Z
X-MICROSOFT-CDO-ALLDAYEVENT:FALSE
SUMMARY:Patrizia's Tee Off & $10\,000 Hole In One Contest
DESCRIPTION:Patrizia's Tee Off  &\n\n$10\,000 Hole In One Contest\n\nwith Dryvebox
X-ALT-DESC;FMTTYPE=text/html:Patrizia&#39\;s Tee Off&nbsp\; &amp\;<br />\n$10\,000 Hole In One Contest<br />\nwith Dryvebox
LOCATION:1040 S Broadway Hicksville NY 11801
UID:e.3565.1285
SEQUENCE:3
DTSTAMP:20260422T022414Z
URL:https://business.bethpagechamberofcommerce.com/events/details/patrizia-s-tee-off-10-000-hole-in-one-contest-1285
END:VEVENT

END:VCALENDAR
