BEGIN:VCALENDAR
VERSION:2.0
PRODID:-//ChamberMaster//Event Calendar 2.0//EN
METHOD:PUBLISH
X-PUBLISHED-TTL:P3D
REFRESH-INTERVAL:P3D
CALSCALE:GREGORIAN
BEGIN:VEVENT
DTSTART:20251104T150000Z
DTEND:20251104T180000Z
X-MICROSOFT-CDO-ALLDAYEVENT:FALSE
SUMMARY:Operation Hope Bethpage Food Drive 11/15/2025
DESCRIPTION:Operation Hope\n\nFood & Toy Drive for\n\nSt. Martin of Tours\n\nFood Pantry
X-ALT-DESC;FMTTYPE=text/html:Operation Hope<br />\nFood &amp\; Toy Drive for<br />\nSt. Martin of Tours<br />\nFood Pantry
LOCATION:Across from Bethpage Fire Dept Broadway Bethpage NY 11714
UID:e.3565.1299
SEQUENCE:3
DTSTAMP:20260421T195319Z
URL:https://business.bethpagechamberofcommerce.com/events/details/operation-hope-bethpage-food-drive-11-15-2025-1299
END:VEVENT

END:VCALENDAR
