BEGIN:VCALENDAR
VERSION:2.0
PRODID:-//ChamberMaster//Event Calendar 2.0//EN
METHOD:PUBLISH
X-PUBLISHED-TTL:P3D
REFRESH-INTERVAL:P3D
CALSCALE:GREGORIAN
BEGIN:VEVENT
DTSTART:20250822T230000Z
DTEND:20250823T010000Z
X-MICROSOFT-CDO-ALLDAYEVENT:FALSE
SUMMARY:Nonna's Dinner BCC Building Fundraiser Meal 8/22/2025
DESCRIPTION:Nonna's Dinner\n\nBCC Buiding Fundraiser Meal
X-ALT-DESC;FMTTYPE=text/html:Nonna&#39\;s Dinner<br />\nBCC Buiding Fundraiser Meal
LOCATION:Bethpage Community Church 192 Broadway Bethpage NY 11714
UID:e.3565.1256
SEQUENCE:3
DTSTAMP:20260422T162854Z
URL:https://business.bethpagechamberofcommerce.com/events/details/nonna-s-dinner-bcc-building-fundraiser-meal-8-22-2025-1256
END:VEVENT

END:VCALENDAR
