BEGIN:VCALENDAR
VERSION:2.0
PRODID:-//ChamberMaster//Event Calendar 2.0//EN
METHOD:PUBLISH
X-PUBLISHED-TTL:P3D
REFRESH-INTERVAL:P3D
CALSCALE:GREGORIAN
BEGIN:VEVENT
DTSTART:20251031T110000Z
DTEND:20251031T160000Z
X-MICROSOFT-CDO-ALLDAYEVENT:FALSE
SUMMARY:Nassau Council Legislative Breakfast Business Person of 2025 10/31/25
DESCRIPTION:Nassau Council of Chambers\n\nof Commerce Legislative\n\nBreakfast & Business of the Year\n\nWilliam Ciminelli
X-ALT-DESC;FMTTYPE=text/html:Nassau Council of Chambers<br />\nof Commerce Legislative<br />\nBreakfast &amp\; Business of the Year<br />\nWilliam Ciminelli
LOCATION:Crest Hollow Country Club Jericho Tpke\, Woodbury
UID:e.3565.1283
SEQUENCE:3
DTSTAMP:20260422T023109Z
URL:https://business.bethpagechamberofcommerce.com/events/details/nassau-council-legislative-breakfast-business-person-of-2025-10-31-25-1283
END:VEVENT

END:VCALENDAR
