BEGIN:VCALENDAR
VERSION:2.0
PRODID:-//ChamberMaster//Event Calendar 2.0//EN
METHOD:PUBLISH
X-PUBLISHED-TTL:P3D
REFRESH-INTERVAL:P3D
CALSCALE:GREGORIAN
BEGIN:VEVENT
DTSTART:20250522T213000Z
DTEND:20250522T233000Z
X-MICROSOFT-CDO-ALLDAYEVENT:FALSE
SUMMARY:Mutli-Chamber Event with Plainview-Old Bethpage & Farmingdale
DESCRIPTION:Multi-Chamber Networking\n\nwith Plainview-Old Bethpage\n\nand Farmingdale Chambers
X-ALT-DESC;FMTTYPE=text/html:Multi-Chamber Networking<br />\nwith Plainview-Old Bethpage<br />\nand Farmingdale Chambers
LOCATION:Hilton Garden Inn 1575 Round Swamp Road\, Plainview NY 11803
UID:e.3565.1040
SEQUENCE:3
DTSTAMP:20260423T021625Z
URL:https://business.bethpagechamberofcommerce.com/events/details/mutli-chamber-event-with-plainview-old-bethpage-farmingdale-1040
END:VEVENT

END:VCALENDAR
