BEGIN:VCALENDAR
VERSION:2.0
PRODID:-//ChamberMaster//Event Calendar 2.0//EN
METHOD:PUBLISH
X-PUBLISHED-TTL:P3D
REFRESH-INTERVAL:P3D
CALSCALE:GREGORIAN
BEGIN:VEVENT
DTSTART:20250528T230000Z
DTEND:20250529T010000Z
X-MICROSOFT-CDO-ALLDAYEVENT:FALSE
SUMMARY:May 2025 General Membership Meeting at Pappardelle's
DESCRIPTION:May 2025\n\nGeneral Membership Meeting\n\nNetworking and Dinner
X-ALT-DESC;FMTTYPE=text/html:May 2025<br />\nGeneral Membership Meeting<br />\nNetworking and Dinner
LOCATION:Papparedelle's Pizzeria & Restaurant 554 Stewart Avenue Bethpage NY 11714
UID:e.3565.1044
SEQUENCE:3
DTSTAMP:20260422T224806Z
URL:https://business.bethpagechamberofcommerce.com/events/details/may-2025-general-membership-meeting-at-pappardelle-s-1044
END:VEVENT

END:VCALENDAR
