BEGIN:VCALENDAR
VERSION:2.0
PRODID:-//ChamberMaster//Event Calendar 2.0//EN
METHOD:PUBLISH
X-PUBLISHED-TTL:P3D
REFRESH-INTERVAL:P3D
CALSCALE:GREGORIAN
BEGIN:VEVENT
DTSTART:20250326T230000Z
DTEND:20250327T010000Z
X-MICROSOFT-CDO-ALLDAYEVENT:FALSE
SUMMARY:March 26th 2025 General Member's Meeting
DESCRIPTION:Bethpage Chamber\n\nGeneral Membership Meeting
X-ALT-DESC;FMTTYPE=text/html:Bethpage Chamber<br />\nGeneral Membership Meeting
LOCATION:To Be Announced
UID:e.3565.1011
SEQUENCE:3
DTSTAMP:20260424T124858Z
URL:https://business.bethpagechamberofcommerce.com/events/details/march-26th-2025-general-member-s-meeting-1011
END:VEVENT

END:VCALENDAR
