BEGIN:VCALENDAR
VERSION:2.0
PRODID:-//ChamberMaster//Event Calendar 2.0//EN
METHOD:PUBLISH
X-PUBLISHED-TTL:P3D
REFRESH-INTERVAL:P3D
CALSCALE:GREGORIAN
BEGIN:VEVENT
DTSTART:20250426T220000Z
DTEND:20250426T233000Z
X-MICROSOFT-CDO-ALLDAYEVENT:FALSE
SUMMARY:Make Your Own Spell Jar
DESCRIPTION:Spell Jar Workshop with Susan Coffman\n\nSaturday\, April 26th | 6:00 PM - 7:30 PM\n\nPrice: $50 (all supplies included)\n\nJoin us for a magical evening of intention-setting and manifestation in our Spell Jar Workshop led by Susan Coffman. This hands-on class will guide you through the process of creating your own personalized spell jar\, a powerful tool for focusing energy and manifesting your desires.\n\nBring an intention with you or decide during the workshop what you'd like to manifest love\, protection\, prosperity\, or anything else that resonates with you. Each participant will receive a spell jar to cleanse with incense before filling it with a thoughtfully curated selection of herbs\, oils\, stones\, and other mystical elements. You'll also write your intention on a bay leaf to include in your jar and seal it with wax\, completing the ritual.\n\nFor a truly personal touch\, students are encouraged to bring a small item that aligns with their intention\, such as:\n\n         A coin for prosperity\n\n         A heart-shaped object for love\n\n         A nail for protection\n\n         A personal item infused with your essence\n\nThis workshop is perfect for beginners and seasoned practitioners alike. All supplies are included in the class fee\, but feel free to bring your own special item to make your spell jar uniquely yours.\n\nSpaces are limited\, so reserve your spot today!
X-ALT-DESC;FMTTYPE=text/html:<p><strong>Spell Jar Workshop with Susan Coffman</strong></p>\n\n<p><strong>Saturday\, April 26th | 6:00 PM - 7:30 PM</strong></p>\n\n<p><strong>Price: $50 (all supplies included)</strong></p>\n\n<p>Join us for a magical evening of intention-setting and manifestation in our <strong>Spell Jar Workshop</strong>&nbsp\;led by Susan Coffman. This hands-on class will guide you through the process of creating your own personalized spell jar\, a powerful tool for focusing energy and manifesting your desires.</p>\n\n<p>Bring an intention with you or decide during the workshop what you&#39\;d like to manifest&mdash\;love\, protection\, prosperity\, or anything else that resonates with you. Each participant will receive a spell jar to cleanse with incense before filling it with a thoughtfully curated selection of herbs\, oils\, stones\, and other mystical elements. You&#39\;ll also write your intention on a bay leaf to include in your jar and seal it with wax\, completing the ritual.</p>\n\n<p>For a truly personal touch\, students are encouraged to bring a small item that aligns with their intention\, such as:</p>\n\n<p>&nbsp\;&nbsp\;&nbsp\;&nbsp\;&bull\;&nbsp\;&nbsp\;&nbsp\;&nbsp\;A coin for prosperity</p>\n\n<p>&nbsp\;&nbsp\;&nbsp\;&nbsp\;&bull\;&nbsp\;&nbsp\;&nbsp\;&nbsp\;A heart-shaped object for love</p>\n\n<p>&nbsp\;&nbsp\;&nbsp\;&nbsp\;&bull\;&nbsp\;&nbsp\;&nbsp\;&nbsp\;A nail for protection</p>\n\n<p>&nbsp\;&nbsp\;&nbsp\;&nbsp\;&bull\;&nbsp\;&nbsp\;&nbsp\;&nbsp\;A personal item infused with your essence</p>\n\n<p>This workshop is perfect for beginners and seasoned practitioners alike. All supplies are included in the class fee\, but feel free to bring your own special item to make your spell jar uniquely yours.</p>\n\n<p>Spaces are limited\, so reserve your spot today!</p>\n
LOCATION:Twin Flame Crystal Boutique 329-1 Broadway Bethpage
UID:e.3565.1023
SEQUENCE:3
DTSTAMP:20260423T052731Z
URL:https://business.bethpagechamberofcommerce.com/events/details/make-your-own-spell-jar-1023
END:VEVENT

END:VCALENDAR
