BEGIN:VCALENDAR
VERSION:2.0
PRODID:-//ChamberMaster//Event Calendar 2.0//EN
METHOD:PUBLISH
X-PUBLISHED-TTL:P3D
REFRESH-INTERVAL:P3D
CALSCALE:GREGORIAN
BEGIN:VEVENT
DTSTART:20250426T150000Z
DTEND:20250426T190000Z
X-MICROSOFT-CDO-ALLDAYEVENT:FALSE
SUMMARY:Made In Bethpage\, New York Expo 4/26/25
DESCRIPTION:Made In Bethpage\, New York Expo
X-ALT-DESC;FMTTYPE=text/html:Made In Bethpage\, New York Expo<br />\n&nbsp\;
LOCATION:Bethpage NY 11714
UID:e.3565.1031
SEQUENCE:3
DTSTAMP:20260423T053948Z
URL:https://business.bethpagechamberofcommerce.com/events/details/made-in-bethpage-new-york-expo-4-26-25-1031
END:VEVENT

END:VCALENDAR
