BEGIN:VCALENDAR
VERSION:2.0
PRODID:-//ChamberMaster//Event Calendar 2.0//EN
METHOD:PUBLISH
X-PUBLISHED-TTL:P3D
REFRESH-INTERVAL:P3D
CALSCALE:GREGORIAN
BEGIN:VEVENT
DTSTART:20251206T150000Z
DTEND:20251206T200000Z
X-MICROSOFT-CDO-ALLDAYEVENT:FALSE
SUMMARY:Len Mulqueen Wood & Metal Art Exhibit / Sale 12/06/2025
DESCRIPTION:LCM Designs presents a Wood & Metal Art Exhibit and Sale featuring carved wooden bowls\, tables\, pens\, crafts and metal sculptures created by Len Mulqueen with some wood sourced with permission from the Bethpage State Park.\n\n\n\nGreat gift ideas for the art collector with one of a kind art pieces for the holiday season or anytime.
X-ALT-DESC;FMTTYPE=text/html:LCM Designs presents a Wood &amp\; Metal Art Exhibit and Sale featuring carved wooden bowls\, tables\, pens\, crafts and metal sculptures created by Len Mulqueen with some wood sourced with permission from the Bethpage State Park.<br />\n<br />\nGreat gift ideas for the art collector with one of a kind art pieces for the holiday season or anytime.
LOCATION:10 Nibbe Lane Bethpage NY 11714
UID:e.3565.1303
SEQUENCE:3
DTSTAMP:20260421T195900Z
URL:https://business.bethpagechamberofcommerce.com/events/details/len-mulqueen-wood-metal-art-exhibit-sale-12-06-2025-1303
END:VEVENT

END:VCALENDAR
