BEGIN:VCALENDAR
VERSION:2.0
PRODID:-//ChamberMaster//Event Calendar 2.0//EN
METHOD:PUBLISH
X-PUBLISHED-TTL:P3D
REFRESH-INTERVAL:P3D
CALSCALE:GREGORIAN
BEGIN:VEVENT
DTSTART:20251124T230000Z
DTEND:20251125T030000Z
X-MICROSOFT-CDO-ALLDAYEVENT:FALSE
SUMMARY:Kiwanis Guest Bartender Night Fundraiser
DESCRIPTION:Kiwanis Guest Bartender Night\n\nFundraiser with Raffles\n\nwith live music by\n\nTom Chupka
X-ALT-DESC;FMTTYPE=text/html:Kiwanis Guest Bartender Night<br />\nFundraiser with Raffles<br />\nwith live music by<br />\nTom Chupka
LOCATION:BK Sweeney's Parkside Tavern 356 Broadway Bethpage NY 11714
UID:e.3565.1300
SEQUENCE:3
DTSTAMP:20260421T195032Z
URL:https://business.bethpagechamberofcommerce.com/events/details/kiwanis-guest-bartender-night-fundraiser-1300
END:VEVENT

END:VCALENDAR
