BEGIN:VCALENDAR
VERSION:2.0
PRODID:-//ChamberMaster//Event Calendar 2.0//EN
METHOD:PUBLISH
X-PUBLISHED-TTL:P3D
REFRESH-INTERVAL:P3D
CALSCALE:GREGORIAN
BEGIN:VEVENT
DTSTART:20250410T223000Z
DTEND:20250411T000000Z
X-MICROSOFT-CDO-ALLDAYEVENT:FALSE
SUMMARY:Intro to Tarot and Tarot Practice
DESCRIPTION:Intro To Tarot Reading\n\nJoin us for an exciting in-person event at Twin Flame! Whether you're a curious beginner or have always been fascinated by tarot\, this workshop is perfect for you. Discover the mystical world of tarot cards and learn how to interpret their meanings. Our experienced tarot reader will guide you through the basics\, teaching you about the symbolism and significance of each card. Unleash your intuition and tap into the wisdom of the tarot.\n\n \n\nTarot 102 Practice\n\nAre you more advanced in your tarot reading and would like to build your confidence reading others? This is the perfect workshop to hone your skills and work on connecting to your cards and others.\n\n \n\nDon't miss this opportunity to delve into the enchanting realm of tarot reading! All guests who attend will receive a 10% voucher to shop at Twin Flame (some exclusions may apply)
X-ALT-DESC;FMTTYPE=text/html:<p><strong>Intro To Tarot Reading</strong></p>\n\n<p>Join us for an exciting <strong>in-person</strong> event at <strong>Twin Flame</strong>! Whether you&#39\;re a curious beginner or have always been fascinated by tarot\, this workshop is perfect for you. Discover the mystical world of tarot cards and learn how to interpret their meanings. Our experienced tarot reader will guide you through the basics\, teaching you about the symbolism and significance of each card. Unleash your intuition and tap into the wisdom of the tarot.</p>\n\n<p>&nbsp\;</p>\n\n<p><strong>Tarot 102 Practice</strong></p>\n\n<p>Are you more advanced in your tarot reading and would like to build your confidence reading others? This is the perfect workshop to hone your skills and work on connecting to your cards and others.</p>\n\n<p>&nbsp\;</p>\n\n<p>Don&#39\;t miss this opportunity to delve into the enchanting realm of tarot reading! All guests who attend will receive a 10% voucher to shop at Twin Flame (some exclusions may apply)</p>\n
LOCATION:Twin Flame Crystal Boutique 329-1 Broadway Bethpage
UID:e.3565.1021
SEQUENCE:3
DTSTAMP:20260423T021824Z
URL:https://business.bethpagechamberofcommerce.com/events/details/intro-to-tarot-and-tarot-practice-04-10-2025-1021
END:VEVENT

END:VCALENDAR
