BEGIN:VCALENDAR
VERSION:2.0
PRODID:-//ChamberMaster//Event Calendar 2.0//EN
METHOD:PUBLISH
X-PUBLISHED-TTL:P3D
REFRESH-INTERVAL:P3D
CALSCALE:GREGORIAN
BEGIN:VEVENT
DTSTART:20250524T220000Z
DTEND:20250525T010000Z
X-MICROSOFT-CDO-ALLDAYEVENT:FALSE
SUMMARY:Honor The Past. Build The Future. Fundraiser 5/24/2025
DESCRIPTION:Honor The Past.\n\nBuild The Future.\n\nFundraiser Night
X-ALT-DESC;FMTTYPE=text/html:Honor The Past.<br />\nBuild The Future.<br />\nFundraiser Night
LOCATION:Bethpage American Legion Archie McCord Post 86 10 Washington St Bethpage\, NY 11714
UID:e.3565.1042
SEQUENCE:3
DTSTAMP:20260422T224736Z
URL:https://business.bethpagechamberofcommerce.com/events/details/honor-the-past-build-the-future-fundraiser-5-24-2025-1042
END:VEVENT

END:VCALENDAR
