BEGIN:VCALENDAR
VERSION:2.0
PRODID:-//ChamberMaster//Event Calendar 2.0//EN
METHOD:PUBLISH
X-PUBLISHED-TTL:P3D
REFRESH-INTERVAL:P3D
CALSCALE:GREGORIAN
BEGIN:VEVENT
DTSTART:20250403T230000Z
DTEND:20250404T010000Z
X-MICROSOFT-CDO-ALLDAYEVENT:FALSE
SUMMARY:Future Progression Workshop
DESCRIPTION:Future Progression to Accelerate Your Personal/Spiritual Development\n\n \n\nThursday\, April 3\; 7:00   9:00 pm EDT\n\nAt Twin Flames in Bethpage\n\nTicket price: $30 early bird before March 27 and $40 at the door\n\nQuantum physicists have demonstrated that all time is happening now\,\n\ngiving us a way to better understand the ability to tap into the future. In this\n\nspecial event\, you'll embark on an inner journey to connect with your future\n\nof this lifetime\, as well as your future selves of other incarnations. You will\n\nuse that key information to enhance your current life.\n\nNanci Deutsch\, LCSW\, and a Certified Hypnotherapist will guide the group\n\ninto a hypnotic trance\, a relaxed state where you can receive information\n\nmore easily from your subconscious mind - that deep part of you that\n\ncontains knowledge that is beyond conscious awareness. This part also\n\nstores information about the past\, present\, and future\, holding the key to\n\nthe wisdom forgotten or yet to be attained (from the linear perspective). It\n\nis the launching pad for your future life exploration.\n\nDuring this workshop\, you will be guided to:\n\n? Meet a spirit guide who will encourage you and help you gain insight.\n\n? Discover knowledge that you can bring back and use to enhance your\n\npresent consciousness.\n\n? Obtain wisdom to help you right now in this present moment.\n\n? Attain gifts from your future self and discover how to use them to\n\nsupport you with your vision and goals.\n\n? Receive guidance on how to use this knowledge to accelerate your\n\npersonal/spiritual development.\n\n \n\nThis event is a wonderful opportunity to explore a powerful personal\n\ntransformation tool on your journey to creating an inspired and empowered\n\nlife!\n\n \n\nNanci Deutsch\, LCSW\, CHt.\, has been deemed the go-to authority as a\n\nholistic psychotherapy practitioner. She helps people accelerate the process\n\nof becoming the best versions of themselves. Nanci is a Licensed Clinical\n\nSocial Worker\, now for over 30 years\, a Certified Hypnotherapist\, a Master\n\nPractitioner of NeuroLinguistics Programming  (NLP)\, and a Certified\n\nIntuitive-Energy Coach.\n\n \n\nNanci\, as an Intuitive Business Expert\, is the Founder and Producer of The\n\nInspired &amp\; Empowered Living TV Show\, airing Thursdays at 5:00 pm Eastern\n\non W4WN. The show has been running for over 7 years and is heard on 12\n\nother podcast sites\, including iHeartRadio.\n\nNanci uniquely combines her counseling\, coaching\, and intuitive abilities to\n\nfacilitate\, educate\, and motivate individuals to maximize their potential and\n\ntransform their personal and professional lives. She leads groups and\n\ntraining programs that help take attendees to the next levels of intuition\,\n\nincome\, and impact for an inspired and empowered life!\n\n \n\nTestimonials\n\n \n\n"Nanci\, your work as a skilled intuitive and licensed social worker allowed me\n\nto break through uncertainty and gain the wisdom and clarity I was looking\n\nfor. The meditation you guided me on in my inner child work\, was one of the\n\nmost profound experiences I have had with a healer. You are a gem. I am\n\ngrateful for you and the time we share" - JW\n\n \n\n"Nanci is a dynamic and gifted teacher and facilitator. She is a natural\n\nintuitive. and you can be sure any course taught by her is totally Spirit-led\n\nand guided to support you in developing in the direction of your Highest\n\nGood\, Highest possibilities\, and your soul' purpose". - Linda
X-ALT-DESC;FMTTYPE=text/html:<p><strong>Future Progression to Accelerate Your Personal/Spiritual Development</strong></p>\n\n<p>&nbsp\;</p>\n\n<p><strong>Thursday\, April 3\; 7:00 &ndash\; 9:00 pm EDT</strong></p>\n\n<p><strong>At Twin Flames in Bethpage</strong></p>\n\n<p><strong>Ticket price: $30 early bird before March 27 and $40 at the door</strong></p>\n\n<p>Quantum physicists have demonstrated that all time is happening now\,</p>\n\n<p>giving us a way to better understand the ability to tap into the future. In this</p>\n\n<p>special event\, you&rsquo\;ll embark on an inner journey to connect with your future</p>\n\n<p>of this lifetime\, as well as your future selves of other incarnations. You will</p>\n\n<p>use that key information to enhance your current life.</p>\n\n<p>Nanci Deutsch\, LCSW\, and a Certified Hypnotherapist will guide the group</p>\n\n<p>into a hypnotic trance\, a relaxed state where you can receive information</p>\n\n<p>more easily from your subconscious mind - that deep part of you that</p>\n\n<p>contains knowledge that is beyond conscious awareness. This part also</p>\n\n<p>stores information about the past\, present\, and future\, holding the key to</p>\n\n<p>the wisdom forgotten or yet to be attained (from the linear perspective). It</p>\n\n<p>is the launching pad for your future life exploration.</p>\n\n<p>During this workshop\, you will be guided to:</p>\n\n<p>? Meet a spirit guide who will encourage you and help you gain insight.</p>\n\n<p>? Discover knowledge that you can bring back and use to enhance your</p>\n\n<p>present consciousness.</p>\n\n<p>? Obtain wisdom to help you right now in this present moment.</p>\n\n<p>? Attain gifts from your future self and discover how to use them to</p>\n\n<p>support you with your vision and goals.</p>\n\n<p>? Receive guidance on how to use this knowledge to accelerate your</p>\n\n<p>personal/spiritual development.</p>\n\n<p>&nbsp\;</p>\n\n<p>This event is a wonderful opportunity to explore a powerful personal</p>\n\n<p>transformation tool on your journey to creating an inspired and empowered</p>\n\n<p>life!</p>\n\n<p>&nbsp\;</p>\n\n<p>Nanci Deutsch\, LCSW\, CHt.\, has been deemed the go-to authority as a</p>\n\n<p>holistic psychotherapy practitioner. She helps people accelerate the process</p>\n\n<p>of becoming the best versions of themselves. Nanci is a Licensed Clinical</p>\n\n<p>Social Worker\, now for over 30 years\, a Certified Hypnotherapist\, a Master</p>\n\n<p>Practitioner of NeuroLinguistics Programming&trade\; (NLP)\, and a Certified</p>\n\n<p>Intuitive-Energy Coach.</p>\n\n<p>&nbsp\;</p>\n\n<p>Nanci\, as an Intuitive Business Expert\, is the&nbsp\;Founder and Producer of The</p>\n\n<p>Inspired &amp\;amp\; Empowered Living TV Show\, airing Thursdays at 5:00 pm Eastern</p>\n\n<p>on W4WN.&nbsp\;The show has been running for over 7 years and is heard on 12</p>\n\n<p>other podcast sites\, including iHeartRadio.</p>\n\n<p>Nanci uniquely combines her counseling\, coaching\, and intuitive abilities to</p>\n\n<p>facilitate\, educate\, and motivate individuals to maximize their potential and</p>\n\n<p>transform their personal and professional lives. She leads groups and</p>\n\n<p>training programs that help take attendees to the next levels of intuition\,</p>\n\n<p>income\, and impact for an inspired and empowered life!</p>\n\n<p>&nbsp\;</p>\n\n<p>Testimonials</p>\n\n<p>&nbsp\;</p>\n\n<p>&quot\;Nanci\, your work as a skilled intuitive and licensed social worker allowed me</p>\n\n<p>to break through uncertainty and gain the wisdom and clarity I was looking</p>\n\n<p>for. The meditation you guided me on in my inner child work\, was one of the</p>\n\n<p>most profound experiences I have had with a healer. You are a gem. I am</p>\n\n<p>grateful for you and the time we share&quot\; - JW</p>\n\n<p>&nbsp\;</p>\n\n<p>&quot\;Nanci is a dynamic and gifted teacher and facilitator. She is a natural</p>\n\n<p>intuitive. and you can be sure any course taught by her is totally Spirit-led</p>\n\n<p>and guided to support you in developing in the direction of your Highest</p>\n\n<p>Good\, Highest possibilities\, and your soul&#39\; purpose&rdquo\;. - Linda</p>\n
LOCATION:Twin Flame Crystal Boutique 329-1 Broadway Bethpage Next to T-Mobile
UID:e.3565.1013
SEQUENCE:3
DTSTAMP:20260423T020512Z
URL:https://business.bethpagechamberofcommerce.com/events/details/future-progression-workshop-1013
END:VEVENT

END:VCALENDAR
