BEGIN:VCALENDAR
VERSION:2.0
PRODID:-//ChamberMaster//Event Calendar 2.0//EN
METHOD:PUBLISH
X-PUBLISHED-TTL:P3D
REFRESH-INTERVAL:P3D
CALSCALE:GREGORIAN
BEGIN:VEVENT
DTSTART:20260429T230000Z
DTEND:20260429T230000Z
X-MICROSOFT-CDO-ALLDAYEVENT:FALSE
SUMMARY:Date Changed: April 2026 Bethpage Chamber General Members Networking Meeting
DESCRIPTION:Bethpage Chamber\n\nGeneral Members\n\nNetworking Meeting \n\nChanged to April 29th\n\nDue to Scheduling
X-ALT-DESC;FMTTYPE=text/html:Bethpage Chamber<br />\nGeneral Members<br />\nNetworking Meeting&nbsp\;<br />\nChanged to April 29th<br />\nDue to Scheduling
LOCATION:To Be Announced
UID:e.3565.1313
SEQUENCE:3
DTSTAMP:20260422T120237Z
URL:https://business.bethpagechamberofcommerce.com/events/details/date-changed-april-2026-bethpage-chamber-general-members-networking-meeting-1313
END:VEVENT

END:VCALENDAR
