BEGIN:VCALENDAR
VERSION:2.0
PRODID:-//ChamberMaster//Event Calendar 2.0//EN
METHOD:PUBLISH
X-PUBLISHED-TTL:P3D
REFRESH-INTERVAL:P3D
CALSCALE:GREGORIAN
BEGIN:VEVENT
DTSTART:20210521T160000Z
DTEND:20210521T170000Z
X-MICROSOFT-CDO-ALLDAYEVENT:FALSE
SUMMARY:Coping With Stress During Covid-19
DESCRIPTION:Join Nicolas Hernandez\, MD\, MS\, of Plainview Hospital for an informative Zoom presentation discussing healthy measures for coping with stress and anxiety during the pandemic
X-ALT-DESC;FMTTYPE=text/html:Join Nicolas Hernandez\, MD\, MS\, of Plainview Hospital for an informative Zoom presentation discussing healthy measures for coping with stress and anxiety during the pandemic
LOCATION:Zoom Webinar Information: Webinar ID: 996 2957 7234 Passcode: 602050
UID:e.3565.296
SEQUENCE:3
DTSTAMP:20260425T232040Z
URL:https://business.bethpagechamberofcommerce.com/events/details/coping-with-stress-during-covid-19-296
END:VEVENT

END:VCALENDAR
