BEGIN:VCALENDAR
VERSION:2.0
PRODID:-//ChamberMaster//Event Calendar 2.0//EN
METHOD:PUBLISH
X-PUBLISHED-TTL:P3D
REFRESH-INTERVAL:P3D
CALSCALE:GREGORIAN
BEGIN:VEVENT
DTSTART:20251009T220000Z
DTEND:20251010T020000Z
X-MICROSOFT-CDO-ALLDAYEVENT:FALSE
SUMMARY:Comedy Night at Me & You Restaurant 10/09/25
DESCRIPTION:Comedy Night\n\nDinner & A Show\n\nHosted by John Ziegler\,\n\nFeaturing Mike Keegan\,\n\nSpecial Guest Rosanne Sorrentino\n\nHeadlined by Eric Haft
X-ALT-DESC;FMTTYPE=text/html:Comedy Night<br />\nDinner &amp\; A Show<br />\nHosted by John Ziegler\,<br />\nFeaturing Mike Keegan\,<br />\nSpecial Guest Rosanne Sorrentino<br />\nHeadlined by Eric Haft<br />\n&nbsp\;
LOCATION:Me & You Restaurant 326 Broadway Bethpage NY 11714
UID:e.3565.1290
SEQUENCE:3
DTSTAMP:20260421T230247Z
URL:https://business.bethpagechamberofcommerce.com/events/details/comedy-night-at-me-you-restaurant-10-09-25-1290
END:VEVENT

END:VCALENDAR
