BEGIN:VCALENDAR
VERSION:2.0
PRODID:-//ChamberMaster//Event Calendar 2.0//EN
METHOD:PUBLISH
X-PUBLISHED-TTL:P3D
REFRESH-INTERVAL:P3D
CALSCALE:GREGORIAN
BEGIN:VEVENT
DTSTART:20250927T170000Z
DTEND:20250928T020000Z
X-MICROSOFT-CDO-ALLDAYEVENT:FALSE
SUMMARY:Chippopalooza at BK Sweeney's Ryder Cup Week 9/27/2025
DESCRIPTION:Chippopalooza at\n\nBK Sweeney's Parkside Tavern\n\nRyder Cup Week
X-ALT-DESC;FMTTYPE=text/html:Chippopalooza at<br />\nBK Sweeney&#39\;s Parkside Tavern<br />\nRyder Cup Week&nbsp\;&nbsp\;&nbsp\;&nbsp\;
LOCATION:356 Broadway Bethpage NY 11714
UID:e.3565.1287
SEQUENCE:3
DTSTAMP:20260422T022127Z
URL:https://business.bethpagechamberofcommerce.com/events/details/chippopalooza-at-bk-sweeney-s-ryder-cup-week-9-27-2025-1287
END:VEVENT

END:VCALENDAR
