BEGIN:VCALENDAR
VERSION:2.0
PRODID:-//ChamberMaster//Event Calendar 2.0//EN
METHOD:PUBLISH
X-PUBLISHED-TTL:P3D
REFRESH-INTERVAL:P3D
CALSCALE:GREGORIAN
BEGIN:VEVENT
DTSTART:20250925T230000Z
DTEND:20250926T020000Z
X-MICROSOFT-CDO-ALLDAYEVENT:FALSE
SUMMARY:Chelsea Is Back at Campagne 9/25/2025
DESCRIPTION:Chelsea's Back!\n\nChelsea Takami Live
X-ALT-DESC;FMTTYPE=text/html:Chelsea&#39\;s Back!<br />\nChelsea Takami Live&nbsp\;&nbsp\;&nbsp\;&nbsp\;
LOCATION:Campagne House 322 Broadway Bethpage NY 11714
UID:e.3565.1284
SEQUENCE:3
DTSTAMP:20260422T022127Z
URL:https://business.bethpagechamberofcommerce.com/events/details/chelsea-is-back-at-campagne-9-25-2025-1284
END:VEVENT

END:VCALENDAR
