BEGIN:VCALENDAR
VERSION:2.0
PRODID:-//ChamberMaster//Event Calendar 2.0//EN
METHOD:PUBLISH
X-PUBLISHED-TTL:P3D
REFRESH-INTERVAL:P3D
CALSCALE:GREGORIAN
BEGIN:VEVENT
DTSTART;VALUE=DATE:20250517
DTEND;VALUE=DATE:20250519
TRANSP:TRANSPARENT
X-MICROSOFT-CDO-ALLDAYEVENT:TRUE
SUMMARY:Chef's Arsenal Warehouse Sale May 17 & 18 2025
DESCRIPTION:Chef's Arsenal\n\nFirst Ever\n\nWarehouse Sale
X-ALT-DESC;FMTTYPE=text/html:Chef&#39\;s Arsenal<br />\nFirst Ever<br />\nWarehouse Sale
LOCATION:999 South Oyster Bay Road Building 110 (Back of Building) Bethpage NY 11714
UID:e.3565.1039
SEQUENCE:3
DTSTAMP:20260419T205727Z
URL:https://business.bethpagechamberofcommerce.com/events/details/chef-s-arsenal-warehouse-sale-may-17-18-2025-1039
END:VEVENT

END:VCALENDAR
