BEGIN:VCALENDAR
VERSION:2.0
PRODID:-//ChamberMaster//Event Calendar 2.0//EN
METHOD:PUBLISH
X-PUBLISHED-TTL:P3D
REFRESH-INTERVAL:P3D
CALSCALE:GREGORIAN
BEGIN:VEVENT
DTSTART:20251020T220000Z
DTEND:20251021T010000Z
X-MICROSOFT-CDO-ALLDAYEVENT:FALSE
SUMMARY:Bingo Night at Me & You Restaurant 10/20/25
DESCRIPTION:Bingo Night at Me & You Restaurant
X-ALT-DESC;FMTTYPE=text/html:Bingo Night at Me &amp\; You Restaurant
LOCATION:326 Broadway Bethpage NY 11714 516-719-0088
UID:e.3565.1291
SEQUENCE:3
DTSTAMP:20260421T230411Z
URL:https://business.bethpagechamberofcommerce.com/events/details/bingo-night-at-me-you-restaurant-10-20-25-1291
END:VEVENT

END:VCALENDAR
