BEGIN:VCALENDAR
VERSION:2.0
PRODID:-//ChamberMaster//Event Calendar 2.0//EN
METHOD:PUBLISH
X-PUBLISHED-TTL:P3D
REFRESH-INTERVAL:P3D
CALSCALE:GREGORIAN
BEGIN:VEVENT
DTSTART:20250927T170000Z
DTEND:20250928T020000Z
X-MICROSOFT-CDO-ALLDAYEVENT:FALSE
SUMMARY:Bethpage Ryder Cup Chippopalooza on Broadway 9/27/2025
DESCRIPTION:Bethpage Chamber presents\n\nChippo-palooza golf games \n\n& Music On Broadway\n\nsummer music series
X-ALT-DESC;FMTTYPE=text/html:Bethpage Chamber presents<br />\nChippo-palooza golf games&nbsp\;<br />\n&amp\;&nbsp\;Music On Broadway<br />\nsummer music series
LOCATION:Downtown Bethpage 456 Broadway Bethpage NY 11714
UID:e.3565.1047
SEQUENCE:3
DTSTAMP:20260422T021947Z
URL:https://business.bethpagechamberofcommerce.com/events/details/bethpage-ryder-cup-chippopalooza-on-broadway-9-27-2025-1047
END:VEVENT

END:VCALENDAR
