BEGIN:VCALENDAR
VERSION:2.0
PRODID:-//ChamberMaster//Event Calendar 2.0//EN
METHOD:PUBLISH
X-PUBLISHED-TTL:P3D
REFRESH-INTERVAL:P3D
CALSCALE:GREGORIAN
BEGIN:VEVENT
DTSTART:20251005T140000Z
DTEND:20251005T210000Z
X-MICROSOFT-CDO-ALLDAYEVENT:FALSE
SUMMARY:Bethpage Kiwanis Harvest Street Fair October 5\, 2025
DESCRIPTION:Bethpage Central Park Kiwanis\n\nHarvest Street Fair &\n\nRaggamuffin Parade
X-ALT-DESC;FMTTYPE=text/html:Bethpage Central Park Kiwanis<br />\nHarvest Street Fair &amp\;<br />\nRaggamuffin Parade
LOCATION:Broadway Bethpage\, NY 11714
UID:e.3565.1252
SEQUENCE:3
DTSTAMP:20260421T230333Z
URL:https://business.bethpagechamberofcommerce.com/events/details/bethpage-kiwanis-harvest-street-fair-october-5-2025-1252
END:VEVENT

END:VCALENDAR
