BEGIN:VCALENDAR
VERSION:2.0
PRODID:-//ChamberMaster//Event Calendar 2.0//EN
METHOD:PUBLISH
X-PUBLISHED-TTL:P3D
REFRESH-INTERVAL:P3D
CALSCALE:GREGORIAN
BEGIN:VEVENT
DTSTART:20260125T000000Z
DTEND:20260125T030000Z
X-MICROSOFT-CDO-ALLDAYEVENT:FALSE
SUMMARY:Bethpage Kiwanis Family Karaoke 1/24/26
DESCRIPTION:Bethpage Kiwanis\n\nFamily Karaoke Night
X-ALT-DESC;FMTTYPE=text/html:Bethpage Kiwanis<br />\nFamily Karaoke Night
LOCATION:Bethpage American Legion 10 Washington Street Bethpage NY 11714
UID:e.3565.1309
SEQUENCE:3
DTSTAMP:20260421T155801Z
URL:https://business.bethpagechamberofcommerce.com/events/details/bethpage-kiwanis-family-karaoke-1-24-26-1309
END:VEVENT

END:VCALENDAR
