BEGIN:VCALENDAR
VERSION:2.0
PRODID:-//ChamberMaster//Event Calendar 2.0//EN
METHOD:PUBLISH
X-PUBLISHED-TTL:P3D
REFRESH-INTERVAL:P3D
CALSCALE:GREGORIAN
BEGIN:VEVENT
DTSTART:20241208T220000Z
DTEND:20241209T003000Z
X-MICROSOFT-CDO-ALLDAYEVENT:FALSE
SUMMARY:Bethpage Holiday Lighting Festival
DESCRIPTION:Holiday Tree & Menorah Lighting Ceremony\, Bethpage High School Performers\, Church Choirs\, Hot Zeppoles\, Fresh Pretzels\, Hot Cocoa\, Petting Zoo\, Holy Roamin Carolers\, Petting Zoo\, Bethpage Library\, sponsor booths and more!
X-ALT-DESC;FMTTYPE=text/html:Holiday Tree &amp\; Menorah Lighting Ceremony\, Bethpage High School Performers\, Church Choirs\, Hot Zeppoles\, Fresh Pretzels\, Hot Cocoa\, Petting Zoo\, Holy Roamin Carolers\, Petting Zoo\, Bethpage Library\, sponsor booths and more!
LOCATION:Broadway & Benkert Bethpage NY 11714
UID:e.3565.998
SEQUENCE:3
DTSTAMP:20260426T042939Z
URL:https://business.bethpagechamberofcommerce.com/events/details/bethpage-holiday-lighting-festival-12-08-2024-998
END:VEVENT

END:VCALENDAR
