BEGIN:VCALENDAR
VERSION:2.0
PRODID:-//ChamberMaster//Event Calendar 2.0//EN
METHOD:PUBLISH
X-PUBLISHED-TTL:P3D
REFRESH-INTERVAL:P3D
CALSCALE:GREGORIAN
BEGIN:VEVENT
DTSTART:20250903T230000Z
DTEND:20250904T010000Z
X-MICROSOFT-CDO-ALLDAYEVENT:FALSE
SUMMARY:Bethpage Community Council Meeting RESCHEDULED!
DESCRIPTION:Bethpage Community Council Meeting\n\nHAS BEEN CANCELED & \n\nWILL BE RESCHEDULED
X-ALT-DESC;FMTTYPE=text/html:Bethpage Community Council Meeting<br />\nHAS BEEN CANCELED &amp\;&nbsp\;<br />\nWILL BE RESCHEDULED
LOCATION:Bethpage Library Powell Ave Bethpage NY 11714
UID:e.3565.1278
SEQUENCE:3
DTSTAMP:20260422T055515Z
URL:https://business.bethpagechamberofcommerce.com/events/details/bethpage-community-council-meeting-rescheduled-1278
END:VEVENT

END:VCALENDAR
