BEGIN:VCALENDAR
VERSION:2.0
PRODID:-//ChamberMaster//Event Calendar 2.0//EN
METHOD:PUBLISH
X-PUBLISHED-TTL:P3D
REFRESH-INTERVAL:P3D
CALSCALE:GREGORIAN
BEGIN:VEVENT
DTSTART:20250801T210000Z
DTEND:20250803T220000Z
X-MICROSOFT-CDO-ALLDAYEVENT:FALSE
SUMMARY:Bethpage Chamber Carnival & Music Off Broadway
DESCRIPTION:Bethpage Chamber Carnival\n\n& Music Off Broadway \n\nSummer Music Series
X-ALT-DESC;FMTTYPE=text/html:Bethpage Chamber Carnival<br />\n&amp\; Music Off Broadway&nbsp\;<br />\nSummer Music Series
LOCATION:10 Washington St. Bethpage NY 11714
UID:e.3565.1045
SEQUENCE:3
DTSTAMP:20260422T125607Z
URL:https://business.bethpagechamberofcommerce.com/events/details/bethpage-chamber-carnival-music-off-broadway-1045
END:VEVENT

END:VCALENDAR
