BEGIN:VCALENDAR
VERSION:2.0
PRODID:-//ChamberMaster//Event Calendar 2.0//EN
METHOD:PUBLISH
X-PUBLISHED-TTL:P3D
REFRESH-INTERVAL:P3D
CALSCALE:GREGORIAN
BEGIN:VEVENT
DTSTART:20251104T210000Z
DTEND:20251105T010000Z
X-MICROSOFT-CDO-ALLDAYEVENT:FALSE
SUMMARY:Bethpage American Legion Family Holiday Photos 12/06/2025
DESCRIPTION:2nd Annual Free Family Holiday Photo Event
X-ALT-DESC;FMTTYPE=text/html:2nd Annual Free Family Holiday Photo Event
LOCATION:Bethpage American Legion Hall 10 Washington Street Bethpage NY 11714
UID:e.3565.1296
SEQUENCE:3
DTSTAMP:20260421T195908Z
URL:https://business.bethpagechamberofcommerce.com/events/details/bethpage-american-legion-family-holiday-photos-12-06-2025-1296
END:VEVENT

END:VCALENDAR
