BEGIN:VCALENDAR
VERSION:2.0
PRODID:-//ChamberMaster//Event Calendar 2.0//EN
METHOD:PUBLISH
X-PUBLISHED-TTL:P3D
REFRESH-INTERVAL:P3D
CALSCALE:GREGORIAN
BEGIN:VEVENT
DTSTART:20250820T223000Z
DTEND:20250821T000000Z
X-MICROSOFT-CDO-ALLDAYEVENT:FALSE
SUMMARY:August 2025 General Members Summer Networking
DESCRIPTION:Bethpage Chamber \n\nGeneral Members\n\nSummer Networking in Suzy's Garden\n\nHappy Hour Meeting \n\nTopic: Ryder Cup Plans & Opportunities
X-ALT-DESC;FMTTYPE=text/html:Bethpage Chamber&nbsp\;<br />\nGeneral Members<br />\nSummer Networking in Suzy&#39\;s Garden<br />\nHappy Hour Meeting&nbsp\;<br />\nTopic: Ryder Cup Plans &amp\; Opportunities&nbsp\; &nbsp\;
LOCATION:Susan's Pub Railroad Ave Bethpage NY 11714
UID:e.3565.1275
SEQUENCE:3
DTSTAMP:20260422T125138Z
URL:https://business.bethpagechamberofcommerce.com/events/details/august-2025-general-members-summer-networking-1275
END:VEVENT

END:VCALENDAR
