BEGIN:VCALENDAR
VERSION:2.0
PRODID:-//ChamberMaster//Event Calendar 2.0//EN
METHOD:PUBLISH
X-PUBLISHED-TTL:P3D
REFRESH-INTERVAL:P3D
CALSCALE:GREGORIAN
BEGIN:VEVENT
DTSTART:20251029T220000Z
DTEND:20251030T020000Z
X-MICROSOFT-CDO-ALLDAYEVENT:FALSE
SUMMARY:Aragona's Comedy Night at Ciminelli's 10/29/25
DESCRIPTION:Aragona's Comedy Night\n\nWith Mike Keegan\, John Butera\,\n\nPeter Anthony\, Danny Calabrese\n\n& Featuring Rob White
X-ALT-DESC;FMTTYPE=text/html:Aragona&#39\;s Comedy Night<br />\nWith Mike Keegan\, John Butera\,<br />\nPeter Anthony\, Danny Calabrese<br />\n&amp\; Featuring Rob White&nbsp\;&nbsp\;
LOCATION:Ciminelli's Pizza & Restaurant 427 Central Ave Bethpage NY 11714 516-939-0009
UID:e.3565.1282
SEQUENCE:3
DTSTAMP:20260421T230008Z
URL:https://business.bethpagechamberofcommerce.com/events/details/aragona-s-comedy-night-at-ciminelli-s-10-29-25-1282
END:VEVENT

END:VCALENDAR
