BEGIN:VCALENDAR
VERSION:2.0
PRODID:-//ChamberMaster//Event Calendar 2.0//EN
METHOD:PUBLISH
X-PUBLISHED-TTL:P3D
REFRESH-INTERVAL:P3D
CALSCALE:GREGORIAN
BEGIN:VEVENT
DTSTART:20250423T230000Z
DTEND:20250424T010000Z
X-MICROSOFT-CDO-ALLDAYEVENT:FALSE
SUMMARY:April General Members 4/23\,/2025
DESCRIPTION:April 2025\n\nGeneral Members Meeting\n\n\n\nAlso See 4/29 Multi-Chamber Meeting
X-ALT-DESC;FMTTYPE=text/html:April 2025<br />\nGeneral Members Meeting<br />\n<br />\nAlso See 4/29 Multi-Chamber Meeting
LOCATION:B.K. Sweeney's Parkside Tavern 356 Broadway Bethpage\, New York 11714
UID:e.3565.1035
SEQUENCE:3
DTSTAMP:20260423T021206Z
URL:https://business.bethpagechamberofcommerce.com/events/details/april-general-members-4-23-2025-1035
END:VEVENT

END:VCALENDAR
