BEGIN:VCALENDAR
VERSION:2.0
PRODID:-//ChamberMaster//Event Calendar 2.0//EN
METHOD:PUBLISH
X-PUBLISHED-TTL:P3D
REFRESH-INTERVAL:P3D
CALSCALE:GREGORIAN
BEGIN:VEVENT
DTSTART;VALUE=DATE:20250402
DTEND;VALUE=DATE:20250403
TRANSP:TRANSPARENT
X-MICROSOFT-CDO-ALLDAYEVENT:TRUE
SUMMARY:April Book Club
DESCRIPTION:Monthly Self-Empowerment Book Club\n\nJoin us for an inspiring journey of self-discovery and empowerment at our Monthly Book Club! Led by Jackie and renowned Tarot Reader Cloe Dina\, each session is designed to nurture your personal growth while connecting you to cosmic energies.\n\n?? What to Expect:\n\n         Book Discussion: Each month\, we'll explore a transformative book that inspires self-awareness and growth.\n\n         Cosmic Connections: Discover how the themes align with the current cosmic energies to deepen your understanding.\n\n         Crystal Suggestions: Learn which crystals can support your journey and amplify your intentions.\n\n         Collective Reading: Enjoy an oracle or tarot reading for the group\, offering guidance for the month ahead.\n\n?? Meeting: Wednesday April 2nd\, 7 9 PM. If this is your first time attending there is a $10 entrance fee. Each new book will require a $10 deposit for attendance.\n\nFind the book here: https://a.co/d/7OffPuQ\n\nPlease come to the first meeting with the book read. The first book will be discussed at February's meeting.\n\n \n\nDive into meaningful conversations\, connect with like-minded individuals\, and leave feeling empowered and aligned.\n\n? Come with an open heart and mind as we explore the wisdom of books\, the universe\, and ourselves!
X-ALT-DESC;FMTTYPE=text/html:<p><strong>Monthly Self-Empowerment Book Club</strong></p>\n\n<p>Join us for an inspiring journey of self-discovery and empowerment at our Monthly Book Club! Led by Jackie and renowned Tarot Reader Cloe Dina\, each session is designed to nurture your personal growth while connecting you to cosmic energies.</p>\n\n<p>?? <strong>What to Expect:</strong></p>\n\n<p><strong>&nbsp\;&nbsp\;&nbsp\;&nbsp\;&bull\;&nbsp\;&nbsp\;&nbsp\;&nbsp\;Book Discussion:</strong>&nbsp\;Each month\, we&rsquo\;ll explore a transformative book that inspires self-awareness and growth.</p>\n\n<p><strong>&nbsp\;&nbsp\;&nbsp\;&nbsp\;&bull\;&nbsp\;&nbsp\;&nbsp\;&nbsp\;Cosmic Connections:</strong>&nbsp\;Discover how the themes align with the current cosmic energies to deepen your understanding.</p>\n\n<p><strong>&nbsp\;&nbsp\;&nbsp\;&nbsp\;&bull\;&nbsp\;&nbsp\;&nbsp\;&nbsp\;Crystal Suggestions:</strong>&nbsp\;Learn which crystals can support your journey and amplify your intentions.</p>\n\n<p><strong>&nbsp\;&nbsp\;&nbsp\;&nbsp\;&bull\;&nbsp\;&nbsp\;&nbsp\;&nbsp\;Collective Reading:</strong>&nbsp\;Enjoy an oracle or tarot reading for the group\, offering guidance for the month ahead.</p>\n\n<p>?? <strong>Meeting:</strong>&nbsp\;Wednesday April 2nd\, 7&ndash\;9 PM. If this is your first time attending there is a $10 entrance fee. Each new book will require a $10 deposit for attendance.</p>\n\n<p>Find the book here: <a class="Hr4qK qhxN-" href="https://a.co/d/9emjPfg" rel=" noopener" target="_top"><u>https://a.co/d/7OffPuQ</u></a></p>\n\n<p>Please come to the first meeting with the book read. The first book will be discussed at February&#39\;s meeting.</p>\n\n<p>&nbsp\;</p>\n\n<p>Dive into meaningful conversations\, connect with like-minded individuals\, and leave feeling empowered and aligned.</p>\n\n<p>? Come with an open heart and mind as we explore the wisdom of books\, the universe\, and ourselves!</p>\n
LOCATION:Twin Flame Crystal Boutique 329-1 Broadway Bethpage Next to T-Mobile
UID:e.3565.1014
SEQUENCE:3
DTSTAMP:20260423T053100Z
URL:https://business.bethpagechamberofcommerce.com/events/details/april-book-club-1014
END:VEVENT

END:VCALENDAR
