BEGIN:VCALENDAR
VERSION:2.0
PRODID:-//ChamberMaster//Event Calendar 2.0//EN
METHOD:PUBLISH
X-PUBLISHED-TTL:P3D
REFRESH-INTERVAL:P3D
CALSCALE:GREGORIAN
BEGIN:VEVENT
DTSTART:20260703T130000Z
DTEND:20260703T160000Z
X-MICROSOFT-CDO-ALLDAYEVENT:FALSE
SUMMARY:America 250th Birthday Celebration & Bethpage Parade 7/3/2026
DESCRIPTION:Save the Date!\n\nAmerica's 250th Birthday Celebration\n\n& Bethpage Independence Day Parade\n\non Friday July 3rd\, 2026\n\n(local participants welcome)
X-ALT-DESC;FMTTYPE=text/html:Save the Date!<br />\nAmerica&#39\;s 250th Birthday Celebration<br />\n&amp\; Bethpage Independence Day Parade<br />\non Friday July 3rd\, 2026<br />\n(local participants welcome)&nbsp\;&nbsp\;&nbsp\;&nbsp\;
LOCATION:Bethpage Community Park\, Bethpage High School To Bethpage American Legion (exact route to be announced)
UID:e.3565.1254
SEQUENCE:3
DTSTAMP:20260421T233231Z
URL:https://business.bethpagechamberofcommerce.com/events/details/america-250th-birthday-celebration-bethpage-parade-7-3-2026-1254
END:VEVENT

END:VCALENDAR
