BEGIN:VCALENDAR
VERSION:2.0
PRODID:-//ChamberMaster//Event Calendar 2.0//EN
METHOD:PUBLISH
X-PUBLISHED-TTL:P3D
REFRESH-INTERVAL:P3D
CALSCALE:GREGORIAN
BEGIN:VEVENT
DTSTART:20260226T223000Z
DTEND:20260227T010000Z
X-MICROSOFT-CDO-ALLDAYEVENT:FALSE
SUMMARY:ACLD FOUNDATION'S 8TH ANNUAL “POKER FOR A PURPOSE” POKER AND CASINO EVENT
DESCRIPTION:ACLD Foundation's 8th Annual Poker for a Purpose Poker and Casino Event will take place on Thursday\, February 26 at The Fox Hollow in Woodbury\, NY. The event\, honoring Dave Compitello and SERVPRO of Huntington\, brings together community leaders\, supporters\, and friends of ACLD for an evening of poker\, casino-style gaming\, cigar and bourbon experience\, and more   all in support of expanding life-enriching opportunities for adults with learning and developmental disabilities.  Proceeds from this highly anticipated annual event will benefit ACLD's Residential Vacation Fund\, which provides adults living in ACLD's Residential Program the opportunity to enjoy annual vacations with the necessary supports to ensure safe\, meaningful\, and memorable experiences. Since its inception\, Poker for a Purpose has made travel and recreation possible for countless individuals\, opening the door to experiences that foster independence\, friendship\, and joy. Past trips and outings have included Broadway shows such as Riverdance\, Boop!\, and Aladdin\, as well as memorable getaways to destinations like Rocking Horse Ranch\, Cape May\, NJ\, Washington\, DC\, and more.
X-ALT-DESC;FMTTYPE=text/html:ACLD&nbsp\;Foundation&rsquo\;s&nbsp\;8th Annual Poker for a Purpose Poker and Casino Event will take place on Thursday\, February 26 at The Fox Hollow in Woodbury\, NY. The event\, honoring Dave Compitello and SERVPRO of Huntington\, brings together community leaders\, supporters\, and friends of ACLD for an evening of poker\, casino-style gaming\,&nbsp\;cigar&nbsp\;and bourbon experience\,&nbsp\;and more &mdash\; all in support of expanding life-enriching opportunities for adults with learning and developmental disabilities.&nbsp\; Proceeds from this highly anticipated annual event will benefit ACLD&rsquo\;s Residential Vacation Fund\, which provides adults living in ACLD&rsquo\;s Residential Program the opportunity to enjoy annual vacations with the necessary supports to ensure safe\, meaningful\, and memorable experiences. Since its inception\, Poker for a Purpose has made travel and recreation possible for countless individuals\, opening the door to experiences that foster independence\, friendship\, and joy. Past trips and outings have included Broadway shows such as Riverdance\, Boop!\, and Aladdin\, as well as memorable getaways to destinations like Rocking Horse Ranch\, Cape May\, NJ\, Washington\, DC\, and more.
LOCATION:Fox Hollow\, Woodbury\, NY (7725 Jericho Tpke\, Woodbury\, NY 11797)
UID:e.3565.1316
SEQUENCE:3
DTSTAMP:20260421T103251Z
URL:https://business.bethpagechamberofcommerce.com/events/details/acld-foundation-s-8th-annual-poker-for-a-purpose-poker-and-casino-event-1316
END:VEVENT

END:VCALENDAR
