BEGIN:VCALENDAR
VERSION:2.0
PRODID:-//ChamberMaster//Event Calendar 2.0//EN
METHOD:PUBLISH
X-PUBLISHED-TTL:P3D
REFRESH-INTERVAL:P3D
CALSCALE:GREGORIAN
BEGIN:VEVENT
DTSTART;VALUE=DATE:20250516
DTEND;VALUE=DATE:20250517
TRANSP:TRANSPARENT
X-MICROSOFT-CDO-ALLDAYEVENT:TRUE
SUMMARY:516 Day in Nassau County!
DESCRIPTION:First-Ever "516 Day!" \n\nA Nassau County Celebration\n\n516 Nassau Area Code theme promotion
X-ALT-DESC;FMTTYPE=text/html:First-Ever &quot\;516 Day!&quot\;&nbsp\;<br />\nA Nassau County Celebration<br />\n516 Nassau Area Code theme promotion
LOCATION:Nassau County New York
UID:e.3565.1012
SEQUENCE:3
DTSTAMP:20260422T224532Z
URL:https://business.bethpagechamberofcommerce.com/events/details/516-day-in-nassau-county-1012
END:VEVENT

END:VCALENDAR
