BEGIN:VCALENDAR
VERSION:2.0
PRODID:-//ChamberMaster//Event Calendar 2.0//EN
METHOD:PUBLISH
X-PUBLISHED-TTL:P3D
REFRESH-INTERVAL:P3D
CALSCALE:GREGORIAN
BEGIN:VEVENT
DTSTART:20251206T210000Z
DTEND:20251207T010000Z
X-MICROSOFT-CDO-ALLDAYEVENT:FALSE
SUMMARY:2nd Annual Family Holiday Photo Event 12/06/2025
DESCRIPTION:2nd Annual Family Holiday Photo Event\n\nFree Photos with Santa
X-ALT-DESC;FMTTYPE=text/html:2nd Annual Family Holiday Photo Event<br />\nFree Photos with Santa
LOCATION:Bethpage American Legion 10 Washington Street Bethpage NY 11714
UID:e.3565.1297
SEQUENCE:3
DTSTAMP:20260421T163002Z
URL:https://business.bethpagechamberofcommerce.com/events/details/2nd-annual-family-holiday-photo-event-12-06-2025-1297
END:VEVENT

END:VCALENDAR
