BEGIN:VCALENDAR
VERSION:2.0
PRODID:-//ChamberMaster//Event Calendar 2.0//EN
METHOD:PUBLISH
X-PUBLISHED-TTL:P3D
REFRESH-INTERVAL:P3D
CALSCALE:GREGORIAN
BEGIN:VEVENT
DTSTART:20251207T210000Z
DTEND:20251207T230000Z
X-MICROSOFT-CDO-ALLDAYEVENT:FALSE
SUMMARY:12/07 Santa Photos & Hot Cocoa at Century 21 Catapano Homes
DESCRIPTION:Santa Claus will be here at our office for the Bethpage Holiday Festival for free photos from 4 - 6pm! Enjoy a cup of hot cocoa and decorate cards for veterans at the FourLeaf sponsored Holiday Workshop in our conference room during the event.
X-ALT-DESC;FMTTYPE=text/html:Santa Claus will be here at our office for the Bethpage Holiday Festival for free photos from 4 - 6pm! Enjoy a cup of hot cocoa and decorate cards for veterans at the FourLeaf sponsored Holiday Workshop in our conference room during the event.
LOCATION:Century 21 Catapano Homes 322 Broadway Bethpage NY 11714
UID:e.3565.1302
SEQUENCE:3
DTSTAMP:20260421T192629Z
URL:https://business.bethpagechamberofcommerce.com/events/details/12-07-santa-photos-hot-cocoa-at-century-21-catapano-homes-1302
END:VEVENT

END:VCALENDAR
